BEGIN:VCALENDAR
VERSION:2.0
PRODID:-//Deutscher Coaching Verband - ECPv6.15.14//NONSGML v1.0//EN
CALSCALE:GREGORIAN
METHOD:PUBLISH
X-WR-CALNAME:Deutscher Coaching Verband
X-ORIGINAL-URL:https://coachingverband.org
X-WR-CALDESC:Veranstaltungen für Deutscher Coaching Verband
REFRESH-INTERVAL;VALUE=DURATION:PT1H
X-Robots-Tag:noindex
X-PUBLISHED-TTL:PT1H
BEGIN:VTIMEZONE
TZID:Europe/Berlin
BEGIN:DAYLIGHT
TZOFFSETFROM:+0100
TZOFFSETTO:+0200
TZNAME:CEST
DTSTART:20250330T010000
END:DAYLIGHT
BEGIN:STANDARD
TZOFFSETFROM:+0200
TZOFFSETTO:+0100
TZNAME:CET
DTSTART:20251026T010000
END:STANDARD
BEGIN:DAYLIGHT
TZOFFSETFROM:+0100
TZOFFSETTO:+0200
TZNAME:CEST
DTSTART:20260329T010000
END:DAYLIGHT
BEGIN:STANDARD
TZOFFSETFROM:+0200
TZOFFSETTO:+0100
TZNAME:CET
DTSTART:20261025T010000
END:STANDARD
BEGIN:DAYLIGHT
TZOFFSETFROM:+0100
TZOFFSETTO:+0200
TZNAME:CEST
DTSTART:20270328T010000
END:DAYLIGHT
BEGIN:STANDARD
TZOFFSETFROM:+0200
TZOFFSETTO:+0100
TZNAME:CET
DTSTART:20271031T010000
END:STANDARD
END:VTIMEZONE
BEGIN:VEVENT
DTSTART;TZID=Europe/Berlin:20260615T160000
DTEND;TZID=Europe/Berlin:20260615T190000
DTSTAMP:20260419T191215
CREATED:20260114T140443Z
LAST-MODIFIED:20260221T101216Z
UID:9845-1781539200-1781550000@coachingverband.org
SUMMARY:Serious Game - Führen in Veränderung
DESCRIPTION:Die Regionalgruppe West lädt zur Online-Veranstaltung „Serious Game – Führen in Veränderung“ mit Referentin Claudia Stegemann ein\, in der Führungssituationen im Wandel interaktiv simuliert und praxisnah reflektiert werden\, um Handlungssicherheit und Führungskompetenz in Veränderungsprozessen zu stärken. \nWeitere Infos und Option zur Anmeldung folgen.
URL:https://coachingverband.org/termin/regio-west-ws-tbd-tbd/
LOCATION:Online
END:VEVENT
END:VCALENDAR