BEGIN:VCALENDAR
VERSION:2.0
PRODID:-//Deutscher Coaching Verband - ECPv6.15.14//NONSGML v1.0//EN
CALSCALE:GREGORIAN
METHOD:PUBLISH
X-WR-CALNAME:Deutscher Coaching Verband
X-ORIGINAL-URL:https://coachingverband.org
X-WR-CALDESC:Veranstaltungen für Deutscher Coaching Verband
REFRESH-INTERVAL;VALUE=DURATION:PT1H
X-Robots-Tag:noindex
X-PUBLISHED-TTL:PT1H
BEGIN:VTIMEZONE
TZID:Europe/Berlin
BEGIN:DAYLIGHT
TZOFFSETFROM:+0100
TZOFFSETTO:+0200
TZNAME:CEST
DTSTART:20250330T010000
END:DAYLIGHT
BEGIN:STANDARD
TZOFFSETFROM:+0200
TZOFFSETTO:+0100
TZNAME:CET
DTSTART:20251026T010000
END:STANDARD
BEGIN:DAYLIGHT
TZOFFSETFROM:+0100
TZOFFSETTO:+0200
TZNAME:CEST
DTSTART:20260329T010000
END:DAYLIGHT
BEGIN:STANDARD
TZOFFSETFROM:+0200
TZOFFSETTO:+0100
TZNAME:CET
DTSTART:20261025T010000
END:STANDARD
BEGIN:DAYLIGHT
TZOFFSETFROM:+0100
TZOFFSETTO:+0200
TZNAME:CEST
DTSTART:20270328T010000
END:DAYLIGHT
BEGIN:STANDARD
TZOFFSETFROM:+0200
TZOFFSETTO:+0100
TZNAME:CET
DTSTART:20271031T010000
END:STANDARD
END:VTIMEZONE
BEGIN:VEVENT
DTSTART;TZID=Europe/Berlin:20260416T190000
DTEND;TZID=Europe/Berlin:20260416T210000
DTSTAMP:20260420T104328
CREATED:20260114T135829Z
LAST-MODIFIED:20260221T094255Z
UID:9829-1776366000-1776373200@coachingverband.org
SUMMARY:Impulsvortrag: Branding für Coaches
DESCRIPTION:Die Regionalgruppe Bayern und Baden-Württemberg lädt am 16.04.2026 zum nächsten virtuellen Regionalgruppentreffen ein. Auf der Agenda stehen aktuelle Neuigkeiten aus der Regiogruppe sowie ein interaktiver Workshop zum Thema „Branding & Personal Branding für Coaches“ mit Julia Kinting. \nFür Verbandsmitglieder ist die Teilnahme kostenfrei\, Nichtmitglieder zahlen 50 Euro pro Person. Die Teilnahmegebühr ist vorab auf Rechnung zu begleichen.
URL:https://coachingverband.org/termin/regio-sued-vortrag-branding-fuer-coaches/
LOCATION:Online
ORGANIZER;CN="Deutscher Coaching Verband e. V.":MAILTO:info@coachingverband.org
END:VEVENT
END:VCALENDAR