BEGIN:VCALENDAR
VERSION:2.0
PRODID:-//Deutscher Coaching Verband - ECPv6.15.14//NONSGML v1.0//EN
CALSCALE:GREGORIAN
METHOD:PUBLISH
X-WR-CALNAME:Deutscher Coaching Verband
X-ORIGINAL-URL:https://coachingverband.org
X-WR-CALDESC:Veranstaltungen für Deutscher Coaching Verband
REFRESH-INTERVAL;VALUE=DURATION:PT1H
X-Robots-Tag:noindex
X-PUBLISHED-TTL:PT1H
BEGIN:VTIMEZONE
TZID:Europe/Berlin
BEGIN:DAYLIGHT
TZOFFSETFROM:+0100
TZOFFSETTO:+0200
TZNAME:CEST
DTSTART:20250330T010000
END:DAYLIGHT
BEGIN:STANDARD
TZOFFSETFROM:+0200
TZOFFSETTO:+0100
TZNAME:CET
DTSTART:20251026T010000
END:STANDARD
BEGIN:DAYLIGHT
TZOFFSETFROM:+0100
TZOFFSETTO:+0200
TZNAME:CEST
DTSTART:20260329T010000
END:DAYLIGHT
BEGIN:STANDARD
TZOFFSETFROM:+0200
TZOFFSETTO:+0100
TZNAME:CET
DTSTART:20261025T010000
END:STANDARD
BEGIN:DAYLIGHT
TZOFFSETFROM:+0100
TZOFFSETTO:+0200
TZNAME:CEST
DTSTART:20270328T010000
END:DAYLIGHT
BEGIN:STANDARD
TZOFFSETFROM:+0200
TZOFFSETTO:+0100
TZNAME:CET
DTSTART:20271031T010000
END:STANDARD
END:VTIMEZONE
BEGIN:VEVENT
DTSTART;TZID=Europe/Berlin:20260917T190000
DTEND;TZID=Europe/Berlin:20260917T203000
DTSTAMP:20260422T165631
CREATED:20260221T103959Z
LAST-MODIFIED:20260221T103959Z
UID:10786-1789671600-1789677000@coachingverband.org
SUMMARY:“Power of Silence” mit Dr. Klaus P. Horn
DESCRIPTION:Der Vortrag „Power of Silence“ mit Dr. Klaus P. Horn in der Region Mitte beleuchtet die transformative Kraft der Stille im beruflichen und persönlichen Kontext\, zeigt ihre Wirkung auf Wahrnehmung\, Konzentration und Entscheidungsfindung und vermittelt Ansätze\, wie Stille gezielt im Coaching und Alltag genutzt werden kann. \nWeitere Informationen zu diesem Online-Vortrag folgen in Kürze.
URL:https://coachingverband.org/termin/power-of-silence-mit-dr-klaus-p-horn/
LOCATION:Online
END:VEVENT
END:VCALENDAR