BEGIN:VCALENDAR
VERSION:2.0
PRODID:-//Deutscher Coaching Verband - ECPv6.15.14//NONSGML v1.0//EN
CALSCALE:GREGORIAN
METHOD:PUBLISH
X-WR-CALNAME:Deutscher Coaching Verband
X-ORIGINAL-URL:https://coachingverband.org
X-WR-CALDESC:Veranstaltungen für Deutscher Coaching Verband
REFRESH-INTERVAL;VALUE=DURATION:PT1H
X-Robots-Tag:noindex
X-PUBLISHED-TTL:PT1H
BEGIN:VTIMEZONE
TZID:Europe/Berlin
BEGIN:DAYLIGHT
TZOFFSETFROM:+0100
TZOFFSETTO:+0200
TZNAME:CEST
DTSTART:20250330T010000
END:DAYLIGHT
BEGIN:STANDARD
TZOFFSETFROM:+0200
TZOFFSETTO:+0100
TZNAME:CET
DTSTART:20251026T010000
END:STANDARD
BEGIN:DAYLIGHT
TZOFFSETFROM:+0100
TZOFFSETTO:+0200
TZNAME:CEST
DTSTART:20260329T010000
END:DAYLIGHT
BEGIN:STANDARD
TZOFFSETFROM:+0200
TZOFFSETTO:+0100
TZNAME:CET
DTSTART:20261025T010000
END:STANDARD
BEGIN:DAYLIGHT
TZOFFSETFROM:+0100
TZOFFSETTO:+0200
TZNAME:CEST
DTSTART:20270328T010000
END:DAYLIGHT
BEGIN:STANDARD
TZOFFSETFROM:+0200
TZOFFSETTO:+0100
TZNAME:CET
DTSTART:20271031T010000
END:STANDARD
END:VTIMEZONE
BEGIN:VEVENT
DTSTART;TZID=Europe/Berlin:20260506T100000
DTEND;TZID=Europe/Berlin:20260506T170000
DTSTAMP:20260419T191818
CREATED:20260114T140221Z
LAST-MODIFIED:20260221T100533Z
UID:9841-1778061600-1778086800@coachingverband.org
SUMMARY:LINC Zertifikatskurs online Tag 2
DESCRIPTION:Auch in diesem Jahr bieten wir Euch die Möglichkeit\, Euch zum LINC Personality Profiler (LPP) zertifizieren zu lassen. Mit dem Zertifikatskurs erhaltet Ihr die Berechtigung\, professionell mit dem Instrument zu arbeiten und es fundiert in Euren Coachings zu integrieren. \nIm Kurs erwerbt Ihr die Berechtigung\, mit dem LPP sowie allen weiteren Varianten zu arbeiten\, u. a.: Team-Check\, Fremdeinschätzung\, Partner Check\, Candidate Check\, Career Profiler\, Sports Profiler. \nVoraussetzungen: \n\nDCV-Mitgliedschaft\nAbgeschlossene Coach-Ausbildung (Mitglieder\, die sich aktuell noch in Ausbildung befinden\, melden sich bitte direkt bei mir: andrea.hoeddinghaus@coachingverband.org)\n\nZertifikatskurs LINC Personality Profiler (LPP) \n\n5. und 6. Mai 2026 (online)\njeweils 10:00–17:00 Uhr (inkl. Pausen)\nZertifikat nach erfolgreichem Abschluss\nDCV-Sonderpreis: 450 € zzgl. MwSt.\n\nRechnungstellung: Diese erfolgt direkt über die LINC GmbH (Leistungserbringer)
URL:https://coachingverband.org/termin/linc-zertifikatskurs-online-tag-2/
LOCATION:Online
ORGANIZER;CN="Deutscher Coaching Verband e. V.":MAILTO:info@coachingverband.org
END:VEVENT
END:VCALENDAR