BEGIN:VCALENDAR
VERSION:2.0
PRODID:-//Deutscher Coaching Verband - ECPv6.15.14//NONSGML v1.0//EN
CALSCALE:GREGORIAN
METHOD:PUBLISH
X-WR-CALNAME:Deutscher Coaching Verband
X-ORIGINAL-URL:https://coachingverband.org
X-WR-CALDESC:Veranstaltungen für Deutscher Coaching Verband
REFRESH-INTERVAL;VALUE=DURATION:PT1H
X-Robots-Tag:noindex
X-PUBLISHED-TTL:PT1H
BEGIN:VTIMEZONE
TZID:Europe/Berlin
BEGIN:DAYLIGHT
TZOFFSETFROM:+0100
TZOFFSETTO:+0200
TZNAME:CEST
DTSTART:20250330T010000
END:DAYLIGHT
BEGIN:STANDARD
TZOFFSETFROM:+0200
TZOFFSETTO:+0100
TZNAME:CET
DTSTART:20251026T010000
END:STANDARD
BEGIN:DAYLIGHT
TZOFFSETFROM:+0100
TZOFFSETTO:+0200
TZNAME:CEST
DTSTART:20260329T010000
END:DAYLIGHT
BEGIN:STANDARD
TZOFFSETFROM:+0200
TZOFFSETTO:+0100
TZNAME:CET
DTSTART:20261025T010000
END:STANDARD
BEGIN:DAYLIGHT
TZOFFSETFROM:+0100
TZOFFSETTO:+0200
TZNAME:CEST
DTSTART:20270328T010000
END:DAYLIGHT
BEGIN:STANDARD
TZOFFSETFROM:+0200
TZOFFSETTO:+0100
TZNAME:CET
DTSTART:20271031T010000
END:STANDARD
END:VTIMEZONE
BEGIN:VEVENT
DTSTART;TZID=Europe/Berlin:20260818T190000
DTEND;TZID=Europe/Berlin:20260818T210000
DTSTAMP:20260420T054637
CREATED:20260114T140635Z
LAST-MODIFIED:20260221T102358Z
UID:9855-1787079600-1787086800@coachingverband.org
SUMMARY:DCV Coach Connection
DESCRIPTION:Die DCV Coach Connection ist unser monatliches\, bundesweites Austauschformat für DCV-Mitglieder und interessierte Coaches. In entspannter Atmosphäre steht der informelle Austausch im Mittelpunkt: ins Gespräch kommen\, sich vernetzen und Erfahrungen\, Tipps und Impulse aus der Coachingpraxis teilen.
URL:https://coachingverband.org/termin/dcv-coach-connection-7/
LOCATION:Online
ORGANIZER;CN="Deutscher Coaching Verband e. V.":MAILTO:info@coachingverband.org
END:VEVENT
END:VCALENDAR